BEGIN:VCALENDAR
VERSION:2.0
PRODID:-//eventon.com NONSGML v1.0//EN
CALSCALE:GREGORIAN
METHOD:PUBLISH
BEGIN:VEVENT
UID:69e746362a971
DTSTAMP:20260421T094110Z
DTSTART:20240727
DTEND:20240728
LOCATION:
SUMMARY:East Regional Championships
DESCRIPTION:&#8220;Under the Lights&#8221; Tournament (3v3\,  1-Day Play™
 ) https://soccer.exposureevents.com/216425/3v3-live-east-regional-champions
 hips-under-the-lights\nhttps://etownsports.com/events/3v3/
URL:https://etownsports.com/events/3v3/
END:VEVENT
END:VCALENDAR