BEGIN:VCALENDAR
VERSION:2.0
PRODID:-//eventon.com NONSGML v1.0//EN
CALSCALE:GREGORIAN
METHOD:PUBLISH
BEGIN:VEVENT
UID:69e74b0eaf119
DTSTAMP:20260421T100150Z
DTSTART:20240629
DTEND:20240630
LOCATION:
SUMMARY:3v3 Live - Elizabethtown
DESCRIPTION:3v3 Live is open to ages 5 through adults &nbsp;Tournament (3v3
 \,  1-Day Play™) &nbsp;All teams &nbsp;Boys &amp; Girls: 19U-6U &nbsp;Adu
 lt: Men &amp; Women &nbsp;Ability: Competitive/Developmental &nbsp;$225.00 
 entry fee &nbsp;4 game guarantee https://soccer.exposureevents.com/widgets/
 v1/event?eventid=216424&amp;header=true&amp;menu=true&amp;responsive=true\n
 https://etownsports.com/events/3v3-live-elizabethtown/
URL:https://etownsports.com/events/3v3-live-elizabethtown/
END:VEVENT
END:VCALENDAR