BEGIN:VCALENDAR
VERSION:2.0
PRODID:-//eventon.com NONSGML v1.0//EN
CALSCALE:GREGORIAN
METHOD:PUBLISH
BEGIN:VEVENT
UID:69e891d17ffdc
DTSTAMP:20260422T091601Z
DTSTART:20230701T000000Z
DTEND:20230701T035900Z
LOCATION:
SUMMARY:Movies In The Park
DESCRIPTION:Event starts at 8pm &#8211; Movie starts at 9:30pm\nhttps://eto
 wnsports.com/events/movies-in-the-park/
URL:https://etownsports.com/events/movies-in-the-park/
END:VEVENT
END:VCALENDAR