BEGIN:VCALENDAR
VERSION:2.0
PRODID:-//eventon.com NONSGML v1.0//EN
CALSCALE:GREGORIAN
METHOD:PUBLISH
BEGIN:VEVENT
UID:69e5f1504e006
DTSTAMP:20260420T092640Z
DTSTART:20241004
DTEND:20241005
LOCATION:
SUMMARY:KY Chrome Invitational
DESCRIPTION:Premier Girls Fastpitch Ages: 10U-14U Girls\nhttps://etownsport
 s.com/events/pgf/
URL:https://etownsports.com/events/pgf/
END:VEVENT
END:VCALENDAR