BEGIN:VCALENDAR
VERSION:2.0
PRODID:-//eventon.com NONSGML v1.0//EN
CALSCALE:GREGORIAN
METHOD:PUBLISH
BEGIN:VEVENT
UID:69eb44671eb92
DTSTAMP:20260424T102231Z
DTSTART:20260501
DTEND:20260502
LOCATION:
SUMMARY:Run for the Rings
DESCRIPTION:USSSA Baseball A &amp; AA Teams REGISTER HERE\nhttps://etownspo
 rts.com/events/run-for-the-rings/
URL:https://etownsports.com/events/run-for-the-rings/
END:VEVENT
END:VCALENDAR