BEGIN:VCALENDAR
VERSION:2.0
PRODID:-//eventon.com NONSGML v1.0//EN
CALSCALE:GREGORIAN
METHOD:PUBLISH
BEGIN:VEVENT
UID:69eb45206cbd3
DTSTAMP:20260424T102536Z
DTSTART:20260508
DTEND:20260509
LOCATION:
SUMMARY:Pink Bat Tournament
DESCRIPTION:USSSA Baseball REGISTER HERE\nhttps://etownsports.com/events/pi
 nk-bat-tournament/
URL:https://etownsports.com/events/pink-bat-tournament/
END:VEVENT
END:VCALENDAR