BEGIN:VCALENDAR
VERSION:2.0
PRODID:-//eventon.com NONSGML v1.0//EN
CALSCALE:GREGORIAN
METHOD:PUBLISH
BEGIN:VEVENT
UID:69eb44cf00fed
DTSTAMP:20260424T102415Z
DTSTART:20260702
DTEND:20260703
LOCATION:
SUMMARY:Bluegrass Showcase
DESCRIPTION:USSSA Fastpitch 13U &#8211; 18U Minimum 5 games guaranteed. REG
 ISTER HERE\nhttps://etownsports.com/events/bluegrass-showcase-usssa/
URL:https://etownsports.com/events/bluegrass-showcase-usssa/
END:VEVENT
END:VCALENDAR