BEGIN:VCALENDAR
VERSION:2.0
PRODID:-//eventon.com NONSGML v1.0//EN
CALSCALE:GREGORIAN
METHOD:PUBLISH
BEGIN:VEVENT
UID:69eb36817de13
DTSTAMP:20260424T092313Z
DTSTART:20250912
DTEND:20250913
LOCATION:
SUMMARY:Fall State
DESCRIPTION:Kentucky USSSA Fall State Tournament REGISTER NOW\nhttps://etow
 nsports.com/events/fall-state-tournament/
URL:https://etownsports.com/events/fall-state-tournament/
END:VEVENT
END:VCALENDAR